BEGIN:VCALENDAR
VERSION:2.0
PRODID:-//CPTS Brest Santé Océane - ECPv6.15.20//NONSGML v1.0//EN
CALSCALE:GREGORIAN
METHOD:PUBLISH
X-WR-CALNAME:CPTS Brest Santé Océane
X-ORIGINAL-URL:https://brestsanteoceane.fr
X-WR-CALDESC:Évènements pour CPTS Brest Santé Océane
REFRESH-INTERVAL;VALUE=DURATION:PT1H
X-Robots-Tag:noindex
X-PUBLISHED-TTL:PT1H
BEGIN:VTIMEZONE
TZID:Europe/Paris
BEGIN:DAYLIGHT
TZOFFSETFROM:+0100
TZOFFSETTO:+0200
TZNAME:CEST
DTSTART:20240331T010000
END:DAYLIGHT
BEGIN:STANDARD
TZOFFSETFROM:+0200
TZOFFSETTO:+0100
TZNAME:CET
DTSTART:20241027T010000
END:STANDARD
BEGIN:DAYLIGHT
TZOFFSETFROM:+0100
TZOFFSETTO:+0200
TZNAME:CEST
DTSTART:20250330T010000
END:DAYLIGHT
BEGIN:STANDARD
TZOFFSETFROM:+0200
TZOFFSETTO:+0100
TZNAME:CET
DTSTART:20251026T010000
END:STANDARD
BEGIN:DAYLIGHT
TZOFFSETFROM:+0100
TZOFFSETTO:+0200
TZNAME:CEST
DTSTART:20260329T010000
END:DAYLIGHT
BEGIN:STANDARD
TZOFFSETFROM:+0200
TZOFFSETTO:+0100
TZNAME:CET
DTSTART:20261025T010000
END:STANDARD
BEGIN:DAYLIGHT
TZOFFSETFROM:+0100
TZOFFSETTO:+0200
TZNAME:CEST
DTSTART:20270328T010000
END:DAYLIGHT
BEGIN:STANDARD
TZOFFSETFROM:+0200
TZOFFSETTO:+0100
TZNAME:CET
DTSTART:20271031T010000
END:STANDARD
END:VTIMEZONE
BEGIN:VEVENT
DTSTART;TZID=Europe/Paris:20260205T090000
DTEND;TZID=Europe/Paris:20260205T090000
DTSTAMP:20260420T083225
CREATED:20260128T101359Z
LAST-MODIFIED:20260128T101402Z
UID:465539-1770282000-1770282000@brestsanteoceane.fr
SUMMARY:Rendez-vous de la prévention : la vitalité cognitive
DESCRIPTION:Au programme : \nPour sa 3e édition\, les Rendez-vous de la prévention mettent à l’honneur la vitalité cognitive. \nLe vieillissement entraîne des questionnements sur l’évolution du fonctionnement cérébral. Il est aujourd’hui démontré qu’il est possible de préserver de bonnes capacités cognitives tout au long de la vie\, de se prémunir de certains troubles\, voire de les stabiliser lorsqu’ils sont installés. \nDe 9h30 à 11h30 : Table ronde Vitalité Cognitive avec les interventions du Dr Alain Bérard\, directeur adjoint de la fondation Médéric-Alzheimer et Benoit Verdon\, psychologue clinicien et professeur à l’Institut de psychologie de l’Université Paris Cité\, modérées par Valérie Duran. Vous découvrirez également un outil digital innovant pour sensibiliser aux bonnes pratiques pour préserver ses capacités cognitives. \nCette conférence se déroulera au siège de la Fédération Agirc-Arrco à Paris et sera retransmise en direct dans notre centre de prévention. \n\nDe 11h30 à 12h00 : Questions Réponses avec les intervenants\nDe 12h30 à 13h00 : Echanges avec les professionnels du centre de prévention de Rennes sur des expériences concrètes pour agir ensemble\n\n			\n				Informations et inscription
URL:https://brestsanteoceane.fr/agenda/rendez-vous-de-la-prevention-la-vitalite-cognitive/
LOCATION:Centre de prévention\, 26 boulevard de Beaumon ; Rennes
CATEGORIES:Événements partenaires
END:VEVENT
BEGIN:VEVENT
DTSTART;VALUE=DATE:20260205
DTEND;VALUE=DATE:20260206
DTSTAMP:20260420T083225
CREATED:20251215T090303Z
LAST-MODIFIED:20251215T090308Z
UID:465422-1770249600-1770335999@brestsanteoceane.fr
SUMMARY:11e congrès annuel de l'UCOG : cancers cutanés et immunothérapie chez la personne âgée
DESCRIPTION:Informations et inscription
URL:https://brestsanteoceane.fr/agenda/11e-congres-annuel-de-lucog-cancers-cutanes-et-immunotherapie-chez-la-personne-agee/
LOCATION:Centre des Congrès de Dinan
CATEGORIES:Événements partenaires
END:VEVENT
BEGIN:VEVENT
DTSTART;TZID=Europe/Paris:20260204T180000
DTEND;TZID=Europe/Paris:20260204T190000
DTSTAMP:20260420T083225
CREATED:20260129T140557Z
LAST-MODIFIED:20260129T140829Z
UID:465589-1770228000-1770231600@brestsanteoceane.fr
SUMMARY:Ciné-débat "LA RECONSTRUCTION DE L’HÔPITAL PSYCHIATRIQUE DE BOHARS  - Vers de nouvelles pratiques ? "
DESCRIPTION:Diffusion du documentaire « Le Monde Normal » d’Hélène Risser\n\nDébat animé par Olivier Mandart\, psychologue à l’Hôpital de Bohars avec la participation d’Hélène Risser\, réalisatrice du documentaire\, Aude Baillet-Herault\,  Directrice de l’Hôpital de Bohars\,  Fragan Valentin Lemeni\, adjoint en charge de la promotion de la santé physique et psychique\, Jules Pasdelou\, membre d’Espas Dezordr\, collectif d’entraide en santé mentale – antenne brestoise du Réseau sur l’Entente de Voix (REV) et l’UNAFAM (Union Nationale des Familles et Amis de Malades psychiques) \n\nL’équipe de Radio Syno’psy\, émission dédiée à la santé mentale de la radio locale Radio U\, sera présente pour réaliser un podcast des débats. \n\nUne exposition des photographies prises par Mathieu Le Gall\, photographe brestois\, prises il y a quelques mois pour garder une mémoire de l’actuel hôpital avant sa destruction\, sera réalisée dans le hall d’accueil de l’auditorium où nous serons accueillis. \n			\n				\n				\n				\n				\n				\n			\n				\n				\n				\n				\n				L’hôpital psychiatrique de Bohars va bientôt se transformer. Les bâtiments actuels\, qui datent de la création de la psychiatrie brestoise en 1975\, vont être remplacés par une toute nouvelle architecture. Ce renouveau tant attendu pour nous brestois\, c’est ce que l’hôpital d’Erstein a connu il y a quelques années et c’est justement dans ce lieu que le documentaire d’Hélène Risser\, « Le monde normal »\, se déroule. Tout au long de ce film\, la réalisatrice revient dans un endroit familier qu’elle a parcouru pendant son enfance pour se demander ce qu’il est devenu\, non seulement en terme d’immobilier\, mais surtout en ce qui concerne les soins qui y sont pratiqués pour apporter une aide aux personnes souffrant de troubles psychiques. Ce documentaire est donc à prendre comme une invitation à échanger avec Hélène Risser\, pour faire en sorte que le nouvel hôpital de Brest\, qui appartient à tous\, soit aussi un lieu de réflexion sur les pratiques de soin. 
URL:https://brestsanteoceane.fr/agenda/cine-debat-le-monde-normal/
LOCATION:Auditorium des Capucins
CATEGORIES:Événements partenaires,Grand public,Tous professionnels
END:VEVENT
BEGIN:VEVENT
DTSTART;VALUE=DATE:20260127
DTEND;VALUE=DATE:20260128
DTSTAMP:20260420T083225
CREATED:20251124T141232Z
LAST-MODIFIED:20251124T141507Z
UID:465370-1769472000-1769558399@brestsanteoceane.fr
SUMMARY:Conférence Carpe Diem
DESCRIPTION:Informations et inscription
URL:https://brestsanteoceane.fr/agenda/conference-carpe-diem/
LOCATION:Hospitalité Saint Thomas de Villeneuve\, Plougastel-Daoulas
CATEGORIES:Événements partenaires
END:VEVENT
BEGIN:VEVENT
DTSTART;TZID=Europe/Paris:20260122T200000
DTEND;TZID=Europe/Paris:20260122T220000
DTSTAMP:20260420T083225
CREATED:20251231T110441Z
LAST-MODIFIED:20251231T110444Z
UID:465460-1769112000-1769119200@brestsanteoceane.fr
SUMMARY:Présentation du Robot Da Vinci X
DESCRIPTION:Informations et inscription
URL:https://brestsanteoceane.fr/agenda/presentation-du-robot-da-vinci-x/
LOCATION:Brest
CATEGORIES:Événements partenaires,Tous professionnels
END:VEVENT
BEGIN:VEVENT
DTSTART;TZID=Europe/Paris:20251218T083000
DTEND;TZID=Europe/Paris:20251218T173000
DTSTAMP:20260420T083225
CREATED:20251028T143845Z
LAST-MODIFIED:20251028T143848Z
UID:465278-1766046600-1766079000@brestsanteoceane.fr
SUMMARY:Congrès : soignant\, cap sur votre mieux-être
DESCRIPTION:Informations et inscription
URL:https://brestsanteoceane.fr/agenda/congres-soignant-cap-sur-votre-mieux-etre/
LOCATION:Cap Stream Landerneau
CATEGORIES:Événements partenaires,Tous professionnels
END:VEVENT
BEGIN:VEVENT
DTSTART;VALUE=DATE:20251212
DTEND;VALUE=DATE:20251213
DTSTAMP:20260420T083225
CREATED:20251120T132806Z
LAST-MODIFIED:20251120T132916Z
UID:465328-1765497600-1765583999@brestsanteoceane.fr
SUMMARY:Les paradoxes de la douleur à l'hôpital
DESCRIPTION:Informations et inscription
URL:https://brestsanteoceane.fr/agenda/les-paradoxes-de-la-douleur-a-lhopital/
LOCATION:Rennes
CATEGORIES:Événements partenaires,Webinaires partenaires
END:VEVENT
BEGIN:VEVENT
DTSTART;VALUE=DATE:20251125
DTEND;VALUE=DATE:20251126
DTSTAMP:20260420T083225
CREATED:20250812T114140Z
LAST-MODIFIED:20250812T114348Z
UID:464956-1764028800-1764115199@brestsanteoceane.fr
SUMMARY:Douzième journée régionale :  Antibiotiques en danger
DESCRIPTION:Programme et inscription
URL:https://brestsanteoceane.fr/agenda/douzieme-journee-regionale-antibiotiques-en-danger/
LOCATION:Chambre des métiers et de l’artisanat de Rennes
CATEGORIES:Événements partenaires,Tous professionnels
END:VEVENT
BEGIN:VEVENT
DTSTART;TZID=Europe/Paris:20251120T133000
DTEND;TZID=Europe/Paris:20251120T170000
DTSTAMP:20260420T083225
CREATED:20251028T143424Z
LAST-MODIFIED:20251028T143427Z
UID:465268-1763645400-1763658000@brestsanteoceane.fr
SUMMARY:Forum de l'éducation Thérapeutique du Patient en santé mentale
DESCRIPTION:Informations
URL:https://brestsanteoceane.fr/agenda/forum-de-leducation-therapeutique-du-patient-en-sante-mentale/
LOCATION:Self du CHU de Bohars
CATEGORIES:Événements partenaires,Grand public,Tous professionnels
END:VEVENT
BEGIN:VEVENT
DTSTART;TZID=Europe/Paris:20251113T140000
DTEND;TZID=Europe/Paris:20251113T160000
DTSTAMP:20260420T083225
CREATED:20251028T142921Z
LAST-MODIFIED:20251031T084938Z
UID:465254-1763042400-1763049600@brestsanteoceane.fr
SUMMARY:Café rencontre\, maladie d'Alzheimer : comprendre et accompagner
DESCRIPTION:Inscription auprès de l’accueil de la résidence : 02 21 10 11 00
URL:https://brestsanteoceane.fr/agenda/cafe-rencontre-maladie-dalzheimer-comprendre-et-accompagner/
LOCATION:Résidence Domitys – Les Houblons\, 22 rue de Bohars\, Brest
CATEGORIES:Événements partenaires
END:VEVENT
BEGIN:VEVENT
DTSTART;VALUE=DATE:20251104
DTEND;VALUE=DATE:20251105
DTSTAMP:20260420T083226
CREATED:20250812T114607Z
LAST-MODIFIED:20250812T114739Z
UID:464964-1762214400-1762300799@brestsanteoceane.fr
SUMMARY:Vieillir à domicile est-il toujours un libre choix ?
DESCRIPTION:Programme et inscription
URL:https://brestsanteoceane.fr/agenda/vieillir-a-domicile-est-il-toujours-un-libre-choix/
LOCATION:Maison des associations de Rennes
CATEGORIES:Événements partenaires,Tous professionnels
END:VEVENT
BEGIN:VEVENT
DTSTART;VALUE=DATE:20251016
DTEND;VALUE=DATE:20251017
DTSTAMP:20260420T083226
CREATED:20250526T074838Z
LAST-MODIFIED:20250617T132651Z
UID:464722-1760572800-1760659199@brestsanteoceane.fr
SUMMARY:Première journée URPS des Infirmiers Libéraux de Bretagne
DESCRIPTION:Informations et inscription
URL:https://brestsanteoceane.fr/agenda/premiere-journee-urps-des-infirmiers-liberaux-de-bretagne/
LOCATION:Stade Rennais
CATEGORIES:Événements partenaires,Infirmiers
END:VEVENT
BEGIN:VEVENT
DTSTART;VALUE=DATE:20251008
DTEND;VALUE=DATE:20251009
DTSTAMP:20260420T083226
CREATED:20250812T113818Z
LAST-MODIFIED:20250812T114250Z
UID:464949-1759881600-1759967999@brestsanteoceane.fr
SUMMARY:Rencontres annuelles de GECO Lib’
DESCRIPTION:Journée dédiée aux échanges\, réflexions et partages d’expérience autour de l’exercice coordonné en santé. \n			\n				Programme et inscription
URL:https://brestsanteoceane.fr/agenda/rencontres-annuelles-de-geco-lib/
LOCATION:Palais des Arts et des Congrès de Vannes
CATEGORIES:Événements partenaires,Tous professionnels
END:VEVENT
BEGIN:VEVENT
DTSTART;TZID=Europe/Paris:20251006T170000
DTEND;TZID=Europe/Paris:20251006T170000
DTSTAMP:20260420T083226
CREATED:20250924T152036Z
LAST-MODIFIED:20250924T152041Z
UID:465196-1759770000-1759770000@brestsanteoceane.fr
SUMMARY:Syno'psy sur Radio U
DESCRIPTION:Informations et inscription\n			\n				\n				\n				\n				\n				Table ronde “Ensemble autour du lien social et de la santé mentale”\navec la CPTS Brest Santé Océane\, le GEM et le 3114\nAllumez votre radio sur 101.1 ou écoutez en ligne sur radio-u.org \nVous souhaitez assister à l’émission en direct aux Ateliers des Capucins ? \nVous pouvez vous pré-inscrire pour y assister via le lien.
URL:https://brestsanteoceane.fr/agenda/synopsy-sur-radio-u/
LOCATION:Ateliers des Capucins – Brest\, Brest\, 29200
CATEGORIES:Événements,Événements partenaires,Grand public,Tous professionnels
END:VEVENT
BEGIN:VEVENT
DTSTART;VALUE=DATE:20250930
DTEND;VALUE=DATE:20251001
DTSTAMP:20260420T083226
CREATED:20250416T121315Z
LAST-MODIFIED:20250521T133553Z
UID:464540-1759190400-1759276799@brestsanteoceane.fr
SUMMARY:Première journée régionale télésanté
DESCRIPTION:Le Groupement Régional e-Santé Bretagne organise\, en partenariat avec l’Agence régionale de santé Bretagne\, l’Assurance Maladie et le COPIL INTER URPS\, une journée dédiée aux professionnels de santé libéraux pour échanger et partager des expériences sur la territorialité et la qualité des soins en télésanté.\n\nAu programme :09h30 – 10h00 : Café d’accueil10h00 – 12h30 : Plénière avec l’intervention des partenaires et un temps de débat sur :🔹 Les leviers pour développer la télésanté dans les territoires🔹 La télésanté et la qualité des soins12h30 – 14h00 : Buffet déjeunatoire14h00 – 16h30 : Plusieurs tables rondes thématiques avec des retours d’expériences et en parallèle\, l’animation d’un atelier sur les assises de la télésanté16h30 – 17h00 : Clôture \nCette journée sera rythmée par des échanges concrets et des retours de terrain pour mieux comprendre les enjeux et opportunités de la télésanté pour les professionnels de santé libéraux. \n			\n				Inscription
URL:https://brestsanteoceane.fr/agenda/premiere-journee-regionale-telesante/
LOCATION:Rennes
CATEGORIES:Événements partenaires
END:VEVENT
BEGIN:VEVENT
DTSTART;TZID=Europe/Paris:20250925T173000
DTEND;TZID=Europe/Paris:20250925T190000
DTSTAMP:20260420T083226
CREATED:20250827T090700Z
LAST-MODIFIED:20250827T090704Z
UID:465013-1758821400-1758826800@brestsanteoceane.fr
SUMMARY:Conférence tous publics :  Prévention de l'épuisement
DESCRIPTION:Informations et inscription
URL:https://brestsanteoceane.fr/agenda/conference-tous-publics-prevention-de-lepuisement/
LOCATION:Hospitalité Saint Thomas de Villeneuve\, Plougastel-Daoulas
CATEGORIES:Événements partenaires,Grand public,Tous professionnels
END:VEVENT
BEGIN:VEVENT
DTSTART;TZID=Europe/Paris:20250925T100000
DTEND;TZID=Europe/Paris:20250925T170000
DTSTAMP:20260420T083226
CREATED:20250827T091552Z
LAST-MODIFIED:20250827T091556Z
UID:465018-1758794400-1758819600@brestsanteoceane.fr
SUMMARY:Salon prévention et santé par Alv’heol
DESCRIPTION:Au programme : \n\nNutrition\nBilan visuel\nPrévention bucco-dentaire\nPromotion de la santé\nActivité physique adaptée\nDépistage du diabète\nDépistage cardio\nDépistage de l’insuffisance rénale\nDépistage du souffle (BPCO)\nDépistage des cancers (sein\, côlon\, etc.)\nGestes de premiers secours\nAménagement du domicile\nSoutien à domicile\nMatériel médical à domicile\nTéléassistance\nFormation & prévention\,\nÉducation thérapeutique du patient…\n\nLa CPTS Brest Santé Océane sera présente pour réaliser des tests de souffle lors du Salon prévention et santé d’Alv’heol. \nDes conférences sont également programmées lors de cette journée. \nRetrouvez le programme détaillé sur le site d’Adl’heol. \n			\n				Programme complet
URL:https://brestsanteoceane.fr/agenda/salon-prevention-et-sante-par-alvheol/
LOCATION:Brest Expo Parc de Penfeld\, Route de Brest\, Guilers\, 29820
CATEGORIES:Campagnes de dépistage,Événements partenaires,Grand public
END:VEVENT
BEGIN:VEVENT
DTSTART;VALUE=DATE:20250613
DTEND;VALUE=DATE:20250614
DTSTAMP:20260420T083226
CREATED:20250526T075334Z
LAST-MODIFIED:20250526T075337Z
UID:464710-1749772800-1749859199@brestsanteoceane.fr
SUMMARY:Journée régionale de l’obésité
DESCRIPTION:Informations et inscription
URL:https://brestsanteoceane.fr/agenda/journee-regionale-de-lobesite/
CATEGORIES:Événements partenaires,Tous professionnels
END:VEVENT
BEGIN:VEVENT
DTSTART;TZID=Europe/Paris:20250612T190000
DTEND;TZID=Europe/Paris:20250612T190000
DTSTAMP:20260420T083226
CREATED:20250523T144948Z
LAST-MODIFIED:20250526T075545Z
UID:464701-1749754800-1749754800@brestsanteoceane.fr
SUMMARY:Mon bilan prévention : informer\, sensibiliser\, agir
DESCRIPTION:Informations et inscription
URL:https://brestsanteoceane.fr/agenda/mon-bilan-prevention-informer-sensibiliser-agir/
LOCATION:Hôtel de ville de Brest
CATEGORIES:Événements partenaires,Tous professionnels
END:VEVENT
BEGIN:VEVENT
DTSTART;TZID=Europe/Paris:20250605T120000
DTEND;TZID=Europe/Paris:20250605T140000
DTSTAMP:20260420T083226
CREATED:20250526T075454Z
LAST-MODIFIED:20250526T075500Z
UID:464694-1749124800-1749132000@brestsanteoceane.fr
SUMMARY:Troisième journée de mise au point sur les maladies infectieuses
DESCRIPTION:Informations et inscription
URL:https://brestsanteoceane.fr/agenda/troisieme-journee-de-mise-au-point-sur-les-maladies-infectieuses/
LOCATION:Chambre des métiers et de l’artisanat de Rennes
CATEGORIES:Événements partenaires,Médecins
END:VEVENT
BEGIN:VEVENT
DTSTART;VALUE=DATE:20250521
DTEND;VALUE=DATE:20250523
DTSTAMP:20260420T083226
CREATED:20250325T133346Z
LAST-MODIFIED:20250325T134705Z
UID:464403-1747785600-1747958399@brestsanteoceane.fr
SUMMARY:Les journées des Infirmiers
DESCRIPTION:Informations et inscription
URL:https://brestsanteoceane.fr/agenda/les-journees-des-infirmiers/
LOCATION:Campus Beaulieu Université de Rennes
CATEGORIES:Événements partenaires
END:VEVENT
BEGIN:VEVENT
DTSTART;VALUE=DATE:20250516
DTEND;VALUE=DATE:20250517
DTSTAMP:20260420T083226
CREATED:20250325T132731Z
LAST-MODIFIED:20250325T132735Z
UID:464416-1747353600-1747439999@brestsanteoceane.fr
SUMMARY:Journée “Prévention et promotion de la santé en cancérologie”
DESCRIPTION:Informations et inscription
URL:https://brestsanteoceane.fr/agenda/journee-prevention-et-promotion-de-la-sante-en-cancerologie/
LOCATION:Faculté de médecine de Rennes
CATEGORIES:Événements partenaires
END:VEVENT
BEGIN:VEVENT
DTSTART;VALUE=DATE:20250515
DTEND;VALUE=DATE:20250516
DTSTAMP:20260420T083226
CREATED:20250325T132519Z
LAST-MODIFIED:20250416T131308Z
UID:464400-1747267200-1747353599@brestsanteoceane.fr
SUMMARY:Séminaire "De l'incurie grave aux spécificités du Diogène"
DESCRIPTION:Informations et inscription
URL:https://brestsanteoceane.fr/agenda/seminaire-de-lincurie-grave-aux-specificites-du-diogene/
LOCATION:Salle Arvest à Pleyben
CATEGORIES:Événements partenaires
END:VEVENT
BEGIN:VEVENT
DTSTART;VALUE=DATE:20250505
DTEND;VALUE=DATE:20250506
DTSTAMP:20260420T083226
CREATED:20250325T132344Z
LAST-MODIFIED:20250325T132348Z
UID:464402-1746403200-1746489599@brestsanteoceane.fr
SUMMARY:S’initier au repérage précoce et l’intervention Brève (RPIB)
DESCRIPTION:Informations et inscription\n			\n				Programme
URL:https://brestsanteoceane.fr/agenda/sinitier-au-reperage-precoce-et-lintervention-breve-rpib/
LOCATION:Brest
CATEGORIES:Événements partenaires
END:VEVENT
BEGIN:VEVENT
DTSTART;VALUE=DATE:20250424
DTEND;VALUE=DATE:20250425
DTSTAMP:20260420T083226
CREATED:20250325T131942Z
LAST-MODIFIED:20250325T131946Z
UID:464391-1745452800-1745539199@brestsanteoceane.fr
SUMMARY:La recherche et les innovations en santé mentale : des leviers pour favoriser le rétablissement des personnes accompagnées
DESCRIPTION:Informations et inscription
URL:https://brestsanteoceane.fr/agenda/la-recherche-et-les-innovations-en-sante-mentale-des-leviers-pour-favoriser-le-retablissement-des-personnes-accompagnees/
LOCATION:Foyer municipal à Loudéac
CATEGORIES:Événements partenaires
END:VEVENT
BEGIN:VEVENT
DTSTART;TZID=Europe/Paris:20250403T193000
DTEND;TZID=Europe/Paris:20250403T220000
DTSTAMP:20260420T083226
CREATED:20250224T160805Z
LAST-MODIFIED:20250224T160809Z
UID:464232-1743708600-1743717600@brestsanteoceane.fr
SUMMARY:Tout savoir sur l'HAD
DESCRIPTION:Pour plus d’informations\, contacter Madame LE BOURDONNEC ; responsable communication du CHP de Brest\, alebourdonnec@chp-brest.bzh
URL:https://brestsanteoceane.fr/agenda/tout-savoir-sur-lhad/
LOCATION:Best Western Brest
CATEGORIES:Événements partenaires
END:VEVENT
BEGIN:VEVENT
DTSTART;TZID=Europe/Paris:20250328T090000
DTEND;TZID=Europe/Paris:20250328T170000
DTSTAMP:20260420T083226
CREATED:20241220T132111Z
LAST-MODIFIED:20241108T132236Z
UID:463649-1743152400-1743181200@brestsanteoceane.fr
SUMMARY:Journée pluriprofessionnelle endométriose
DESCRIPTION:La troisième journée pluriprofessionnelle dédiée à l’endométriose\, organisée par Endobreizh\, aura lieu à Saint Brieuc le 28 mars 2025. \n			\n				Information et inscription
URL:https://brestsanteoceane.fr/agenda/journee-pluriprofessionnelle-endometriose/
LOCATION:Palais des Congrès et des Expositions de la Baie de Saint-Brieuc
CATEGORIES:Événements partenaires
END:VEVENT
BEGIN:VEVENT
DTSTART;TZID=Europe/Paris:20250206T140000
DTEND;TZID=Europe/Paris:20250206T150000
DTSTAMP:20260420T083226
CREATED:20250203T102301Z
LAST-MODIFIED:20250203T102305Z
UID:464105-1738850400-1738854000@brestsanteoceane.fr
SUMMARY:Prévention de la santé et bons gestes pour éviter les fractures en cas de chute
DESCRIPTION:L’Association Club de Stretching de Brest-Iroise propose au public des nouveaux séniors\, une vidéo-conférence gratuite sur les thèmes : prévention de la santé et bons gestes pour éviter les fractures en cas de chute\, le jeudi 6 février 2025 à 14 h 00 au Jardins d’Arcadie\, 5 rue Algésiras à Brest. \nLes débats seront animés par Monsieur Claude CONSORTI\, professionnel du Sport (D.E) et Diplômé Universitaire de la Faculté de Médecine de Brest (U.B.O) en Éducation sanitaire du citoyen et en Approche globale de la relation soignant/soigné centrée sur la personne. \nPour plus d’informations\, vous pouvez vous rapprocher de l’association CSBI :contact@csbi-sante.fr
URL:https://brestsanteoceane.fr/agenda/prevention-de-la-sante-et-bons-gestes-pour-eviter-les-fractures-en-cas-de-chute/
LOCATION:Les Jardins d’Arcadie – Algésiras\, 5 rue Algésiras\, Brest\, 29200
CATEGORIES:Événements partenaires
ORGANIZER;CN="CSBI":MAILTO:contact@csbi-sante.fr
END:VEVENT
BEGIN:VEVENT
DTSTART;TZID=Europe/Paris:20250206T080000
DTEND;TZID=Europe/Paris:20250206T170000
DTSTAMP:20260420T083226
CREATED:20241217T112614Z
LAST-MODIFIED:20250131T102236Z
UID:463844-1738828800-1738861200@brestsanteoceane.fr
SUMMARY:Cancer du sein et santé osseuse chez la personne âgée
DESCRIPTION:L’UCOG Bretagne organise une journée sur la prise en charge des cancers du sein et de la santé osseuse chez la personne âgée à l’espace Glenmor à Carhaix. \n			\n				Informations
URL:https://brestsanteoceane.fr/agenda/cancer-du-sein-et-sante-osseuse-chez-la-personne-agee/
LOCATION:Carhaix
CATEGORIES:Événements partenaires
END:VEVENT
BEGIN:VEVENT
DTSTART;TZID=Europe/Paris:20250127T133000
DTEND;TZID=Europe/Paris:20250127T170000
DTSTAMP:20260420T083226
CREATED:20241219T102820Z
LAST-MODIFIED:20241219T102823Z
UID:463871-1737984600-1737997200@brestsanteoceane.fr
SUMMARY:Temps fort annuel "santé environnementale" du Contrat Local de Santé du pays de Brest
DESCRIPTION:Le Pôle métropolitain du Pays de Brest organise un temps fort dans le cadre du plan d’actions santé environnement du Contrat Local de santé au centre nautique\, salle Cormorandière\, à Brest \nRetrouvez le programme et le lien d’inscription 👇 \n			\n				Programme\n			\n				Inscription
URL:https://brestsanteoceane.fr/agenda/temps-fort-annuel-sante-environnementale-du-contrat-local-de-sante-du-pays-de-brest/
LOCATION:Brest
CATEGORIES:Événements partenaires
END:VEVENT
END:VCALENDAR